BEGIN:VCALENDAR
VERSION:2.0
PRODID:-//PHW-Live - ECPv6.15.5//NONSGML v1.0//EN
CALSCALE:GREGORIAN
METHOD:PUBLISH
X-WR-CALNAME:PHW-Live
X-ORIGINAL-URL:https://www.phw-live.de
X-WR-CALDESC:Veranstaltungen für PHW-Live
REFRESH-INTERVAL;VALUE=DURATION:PT1H
X-Robots-Tag:noindex
X-PUBLISHED-TTL:PT1H
BEGIN:VTIMEZONE
TZID:UTC
BEGIN:STANDARD
TZOFFSETFROM:+0000
TZOFFSETTO:+0000
TZNAME:UTC
DTSTART:20250101T000000
END:STANDARD
END:VTIMEZONE
BEGIN:VEVENT
DTSTART;TZID=UTC:20250403T200000
DTEND;TZID=UTC:20250403T213000
DTSTAMP:20260422T051120
CREATED:20250311T121535Z
LAST-MODIFIED:20250311T121535Z
UID:5444-1743710400-1743715800@www.phw-live.de
SUMMARY:Visual Sounds
DESCRIPTION:Audiovisuelle Performance für »visual piano«\, Cello mit Live-Elektronik und Schlagwerk \n\n\nAus dem Augenblick heraus entsteht ein sich stetig veränderndes\, sicht- und hörbares Kunstwerk\, das Zuschauer und Zuhörer eintauchen lässt in die Innenwelten der Klänge\, die Spektren ihrer Obertöne\, und sie die Resonanzen im Raum erleben lässt. Die auf dem visual piano live gespielten Lichtprojektionen spiegeln die Klänge\, transponieren diese in sichtbare Formen und lassen sie analog oder im Kontrapunkt mit Melodien und Rhythmen leuchten\, pulsieren\, schweben und wieder langsam verschwinden. Abstrakt\, auf nichts verweisend. Die drei Künstler/Musiker verzichten dabei bewusst auf detaillierte Vorgaben. Improvisation\, freies\, intuitives Spiel aus dem Moment heraus\, spielt in diesem Prozess also eine entscheidende Rolle. Allein die Wahl der Stilistik und die damit verbundene Auswahl von Instrumenten und Klangmaterial sowie der Beginn des Stückes werden vorab definiert. \n\nReferenten: Fried Dähn\, Elektrocello; Jürgen Grözinger; Pecussion; Laurenz Theinert\, Lichtkünstler
URL:https://www.phw-live.de/event/visual-sounds/
LOCATION:Aula
END:VEVENT
END:VCALENDAR