BEGIN:VCALENDAR
VERSION:2.0
PRODID:-//PHW-Live - ECPv6.15.5//NONSGML v1.0//EN
CALSCALE:GREGORIAN
METHOD:PUBLISH
X-WR-CALNAME:PHW-Live
X-ORIGINAL-URL:https://www.phw-live.de
X-WR-CALDESC:Veranstaltungen für PHW-Live
REFRESH-INTERVAL;VALUE=DURATION:PT1H
X-Robots-Tag:noindex
X-PUBLISHED-TTL:PT1H
BEGIN:VTIMEZONE
TZID:UTC
BEGIN:STANDARD
TZOFFSETFROM:+0000
TZOFFSETTO:+0000
TZNAME:UTC
DTSTART:20240101T000000
END:STANDARD
END:VTIMEZONE
BEGIN:VEVENT
DTSTART;TZID=UTC:20240411T143000
DTEND;TZID=UTC:20240411T193000
DTSTAMP:20260421T085119
CREATED:20240326T110335Z
LAST-MODIFIED:20240326T110349Z
UID:4654-1712845800-1712863800@www.phw-live.de
SUMMARY:StuFen-Olympiade in der SEW
DESCRIPTION:Eigentlich wurde die Campus-Rallye für die Erstis erfunden. Seit dem WS 23/24 gibt es sie auch für alle anderen Studierenden\, die in der SEW Lust auf Feiern und Begegnung haben\, unter dem Titel „StuFen-Olympiade“ (damit man sie nicht mit der PHW-Rallye verwechselt). \nDie StuFen freuen sich über rege Teilnahme aller Studierenden UND Lehrenden der PH Weingarten. Letztere können auch selbst Stationen aufbauen und sich an der Durchführung beteiligen. \nParallel zur StuFen-Olympiade findet das Get together vor der Cafeteria statt.
URL:https://www.phw-live.de/event/stufen-olympiade-2/
LOCATION:PH Campus
CATEGORIES:Party,Semestereinstiegswoche
ORGANIZER;CN="Verfasste Studierendenschaft (VS)":MAILTO:asta@ph-weingarten.de
END:VEVENT
END:VCALENDAR