BEGIN:VCALENDAR
VERSION:2.0
PRODID:-//PHW-Live - ECPv6.15.5//NONSGML v1.0//EN
CALSCALE:GREGORIAN
METHOD:PUBLISH
X-WR-CALNAME:PHW-Live
X-ORIGINAL-URL:https://www.phw-live.de
X-WR-CALDESC:Veranstaltungen für PHW-Live
REFRESH-INTERVAL;VALUE=DURATION:PT1H
X-Robots-Tag:noindex
X-PUBLISHED-TTL:PT1H
BEGIN:VTIMEZONE
TZID:UTC
BEGIN:STANDARD
TZOFFSETFROM:+0000
TZOFFSETTO:+0000
TZNAME:UTC
DTSTART:20250101T000000
END:STANDARD
END:VTIMEZONE
BEGIN:VEVENT
DTSTART;VALUE=DATE:20250508
DTEND;VALUE=DATE:20250509
DTSTAMP:20260422T053809
CREATED:20250311T122652Z
LAST-MODIFIED:20250311T122652Z
UID:5451-1746662400-1746748799@www.phw-live.de
SUMMARY:Karrieremesse Ravensburg
DESCRIPTION:Die Ravensburger Karrieremesse zählt zu den wichtigsten und größten Messen zur Berufsorientierung in der Region.\nDie nächste Ravensburger Karrieremesse findet am 08. Mai 2025 in der Oberschwabenhalle Ravensburg statt.\nDie Pädagogische Hochschule Weingarten wird mit einem Stand vertreten sein.\nWir möchten gerne aufzeigen\, welche vielfältige Studienlandschaft mit den unterschiedlichsten schulischen\, beruflichen und akademischen Bildungswegen unsere Hochschule zu bieten hat. \n 
URL:https://www.phw-live.de/event/karrieremesse-ravensburg-2/
END:VEVENT
END:VCALENDAR