BEGIN:VCALENDAR
VERSION:2.0
PRODID:-//PHW-Live - ECPv6.15.5//NONSGML v1.0//EN
CALSCALE:GREGORIAN
METHOD:PUBLISH
X-WR-CALNAME:PHW-Live
X-ORIGINAL-URL:https://www.phw-live.de
X-WR-CALDESC:Veranstaltungen für PHW-Live
REFRESH-INTERVAL;VALUE=DURATION:PT1H
X-Robots-Tag:noindex
X-PUBLISHED-TTL:PT1H
BEGIN:VTIMEZONE
TZID:UTC
BEGIN:STANDARD
TZOFFSETFROM:+0000
TZOFFSETTO:+0000
TZNAME:UTC
DTSTART:20240101T000000
END:STANDARD
END:VTIMEZONE
BEGIN:VEVENT
DTSTART;TZID=UTC:20241121T113000
DTEND;TZID=UTC:20241121T123000
DTSTAMP:20260425T040430
CREATED:20241003T081913Z
LAST-MODIFIED:20241004T092621Z
UID:5109-1732188600-1732192200@www.phw-live.de
SUMMARY:H2S Workshop - Besser präsentieren
DESCRIPTION:Tipps\, Tricks und Techniken für effektivere und ansprechendere Präsentationen. Mit Videoanalyse und Feedbackgesprächen. \n  \nAnmeldung unter: https://www.moopaed.de/moodle/course/view.php?id=11679
URL:https://www.phw-live.de/event/h2s-workshop-besser-praesentieren/
LOCATION:S1.14
CATEGORIES:P2P-Angebot
ATTACH;FMTTYPE=image/jpeg:https://www.phw-live.de/wp-content/uploads/2024/09/Logo-How-to-Study.jpg
END:VEVENT
END:VCALENDAR