BEGIN:VCALENDAR
VERSION:2.0
PRODID:-//PHW-Live - ECPv6.15.5//NONSGML v1.0//EN
CALSCALE:GREGORIAN
METHOD:PUBLISH
X-WR-CALNAME:PHW-Live
X-ORIGINAL-URL:https://www.phw-live.de
X-WR-CALDESC:Veranstaltungen für PHW-Live
REFRESH-INTERVAL;VALUE=DURATION:PT1H
X-Robots-Tag:noindex
X-PUBLISHED-TTL:PT1H
BEGIN:VTIMEZONE
TZID:UTC
BEGIN:STANDARD
TZOFFSETFROM:+0000
TZOFFSETTO:+0000
TZNAME:UTC
DTSTART:20240101T000000
END:STANDARD
END:VTIMEZONE
BEGIN:VEVENT
DTSTART;TZID=UTC:20241009T123000
DTEND;TZID=UTC:20241009T140000
DTSTAMP:20260421T085233
CREATED:20241009T092935Z
LAST-MODIFIED:20241009T093617Z
UID:5167-1728477000-1728482400@www.phw-live.de
SUMMARY:Fear-Setting: Ängste überwinden & bessere Entscheidungen treffen
DESCRIPTION:
URL:https://www.phw-live.de/event/fear-setting-aengste-ueberwinden-bessere-entscheidungen-treffen/
LOCATION:S1.14
CATEGORIES:Vortrag,Workshop
END:VEVENT
END:VCALENDAR