BEGIN:VCALENDAR
VERSION:2.0
PRODID:-//PHW-Live - ECPv6.15.5//NONSGML v1.0//EN
CALSCALE:GREGORIAN
METHOD:PUBLISH
X-WR-CALNAME:PHW-Live
X-ORIGINAL-URL:https://www.phw-live.de
X-WR-CALDESC:Veranstaltungen für PHW-Live
REFRESH-INTERVAL;VALUE=DURATION:PT1H
X-Robots-Tag:noindex
X-PUBLISHED-TTL:PT1H
BEGIN:VTIMEZONE
TZID:UTC
BEGIN:STANDARD
TZOFFSETFROM:+0000
TZOFFSETTO:+0000
TZNAME:UTC
DTSTART:20230101T000000
END:STANDARD
END:VTIMEZONE
BEGIN:VEVENT
DTSTART;TZID=UTC:20231129T170000
DTEND;TZID=UTC:20231129T230000
DTSTAMP:20260421T101935
CREATED:20230806T164211Z
LAST-MODIFIED:20230824T124014Z
UID:4220-1701277200-1701298800@www.phw-live.de
SUMMARY:D'Almhütte Weingarten
DESCRIPTION:Beginn der Almhütte im Stadtpark! D´Almhütte bietet ein unvergessliches Hütt´n-Erlebnis in Weingarten. Die Almhütte steht in der Weihnachtszeit am Stadtgarten und lädt mit Glühwein\, Punsch und zünftigem Vesper zu gemütlichen und geselligen Abenden ein. \nMittwochs bis freitags 17 – 23 Uhr\nSamstags 14 – 23 Uhr\nHeiligabend 10 – 14 Uhr \nEnde: 24.12.2023
URL:https://www.phw-live.de/event/dalmhuette-weingarten/
LOCATION:Stadtgarten Weingarten\, Am Stadtgarten\, Weingarten\, 88250
END:VEVENT
END:VCALENDAR